BEGIN:VCALENDAR
VERSION:2.0
PRODID:-//Plone.org//NONSGML plone.app.event//EN
X-WR-TIMEZONE:Europe/Berlin
BEGIN:VEVENT
SUMMARY:AIfA Science Day
DTSTART;TZID=Europe/Berlin:20260417T093000
DTSTAMP:20260422T201512Z
UID:f1f1febfee9446f98a05b5cdbcf5eeb4@www.astro.uni-bonn.de
CREATED:20260327T125810Z
DESCRIPTION:The Argelander Institute invites all affiliates to its Science
  Day!\n\nAll members of research groups\, as well as master’s students\,
  are cordially invited to learn more about the AIfA’s scientific activit
 ies and to network even better with one another. In addition to short pres
 entations\, entertaining activities—such as a pub quiz hosted by the Ast
 ronomy on Tap team—are planned.\n\nPlease use the registration link belo
 w to sign up.\n\nWe look forward to meeting all participants and hope that
  this event will help us connect even better\, support one another\, and s
 hare ideas across the institute.\n\nBest regards\,\n   Toka Alokda\n   Con
 stanza Espinoza\n   Florian Pacaud\n   Angie Veronica
LAST-MODIFIED:20260414T085939Z
URL:https://www.astro.uni-bonn.de/en/news-events/events/aifa-science-day
END:VEVENT
BEGIN:VTIMEZONE
TZID:Europe/Berlin
X-LIC-LOCATION:Europe/Berlin
BEGIN:DAYLIGHT
DTSTART:20260329T030000
TZNAME:CEST
TZOFFSETFROM:+0100
TZOFFSETTO:+0200
END:DAYLIGHT
END:VTIMEZONE
END:VCALENDAR
