BEGIN:VCALENDAR
VERSION:2.0
PRODID:-//Plone.org//NONSGML plone.app.event//EN
X-WR-TIMEZONE:Europe/Berlin
BEGIN:VEVENT
SUMMARY:Astronomy Day 2026
DTSTART;TZID=Europe/Berlin:20260328T140000
DTEND;TZID=Europe/Berlin:20260328T190000
DTSTAMP:20260424T025936Z
UID:88e4bc5b026a4557974bd55bcb60408d@www.astro.uni-bonn.de
CREATED:20260324T073134Z
DESCRIPTION:The Argelander Institute for Astronomy\, together with the Max
  Planck Institute for Radio Astronomy and the Bonn Public Observatory (Vol
 kssternwarte Bonn)\, invites you to Astronomy Day 2026.\n\nYou can look fo
 rward to exciting astronomy lectures\, live observations (using the 100-me
 ter Effelsberg radio telescope\; weather permitting\, with telescopes set 
 up in front of the institute)\, a children’s art and craft corner\, an a
 stronomy quiz with prizes\, as well as the opportunity to chat with our re
 searchers and ask questions.\n\nThe program can be found via the web link 
 below.\n\nWe look forward to welcoming guests of all ages!
LAST-MODIFIED:20260326T072508Z
URL:https://www.astro.uni-bonn.de/en/news-events/events/astro-day-26
END:VEVENT
BEGIN:VTIMEZONE
TZID:Europe/Berlin
X-LIC-LOCATION:Europe/Berlin
BEGIN:STANDARD
DTSTART:20251026T020000
TZNAME:CET
TZOFFSETFROM:+0200
TZOFFSETTO:+0100
END:STANDARD
END:VTIMEZONE
END:VCALENDAR
