BEGIN:VCALENDAR
VERSION:2.0
PRODID:-//Plone.org//NONSGML plone.app.event//EN
X-WR-TIMEZONE:Europe/Berlin
BEGIN:VEVENT
SUMMARY:Astronomy on Tap
DTSTART;TZID=Europe/Berlin:20250429T190000
DTSTAMP:20260424T080606Z
UID:f06ee74a7a904d7d8053f1715d2c715a@www.astro.uni-bonn.de
CREATED:20250428T121637Z
DESCRIPTION:The next Astronomy on Tap Bonn! event will take place on Tuesd
 ay\, April 29 at 7:00 PM at The Fiddlers Pub (Frongasse 9\, Endenich).\n\n
 Talks:\n“Masers: The Original Space Lasers” by Dr. Arisha Jacob (EN)\n
 “There Was No Big Bang\, Unless...” by Prof. Hans Fahr (DE)\n\nThere w
 ill also be a chance to win great prizes in the pub quiz and raffle afterw
 ards!
LAST-MODIFIED:20250906T010529Z
URL:https://www.astro.uni-bonn.de/en/news-events/events/astronomy-on-tap
END:VEVENT
BEGIN:VTIMEZONE
TZID:Europe/Berlin
X-LIC-LOCATION:Europe/Berlin
BEGIN:DAYLIGHT
DTSTART:20250330T030000
TZNAME:CEST
TZOFFSETFROM:+0100
TZOFFSETTO:+0200
END:DAYLIGHT
END:VTIMEZONE
END:VCALENDAR
